Workbook

Sheet 0DADES
C3: DADES ENTITAT i PROJECTE - INSTRUCCIONS
C5: 0. Dades de l'entitat
C7: Nom Entitat | F7: NIF
C9: Nom Projecte | F9: Any/curs
C11: SOL·LICITUD: Instruccions
C13: Omplir les següents dades a cada un dels fulls:
C15: 1PRE Despeses | D15: Relació de DESPESES del pressupost presentat al projecte de sol·licitud. Cal complir:
D16: Grup Despeses: seleccionar del desplegable la tipologia de la despesa.
D17: Tipus: seleccionar si és una despesa directa o indirecta per a l'execució del projecte.
D18: Descripció despeses: explicació més detallada de la despesa.
D19: Import: quantitat de la despesa.
C21: 2PRE Ingressos | D21: Relació d'INGRESSOS del pressupost presentat al projecte de sol·licitud. Cal complir:
D22: Grup Ingressos: seleccionar del desplegable la tipologia de l'ingrés.
D23: Descripció ingressos: explicació més detallada de l'ingrés.
D24: Import: quantitat de l'ingrés.
C26: 3 PRESSSUPOST | D26: Resum de les dades i pressupost global.
D27: Es genera automàticament quan introduim dades a les pàgines anteriors (despeses i ingressos).
D28: Ajuda a veure el resum de les dades econòmiques i la seva validació.
C30: Adjunteu a la vostra tramitació de sol·licitud electrònica aquest document, sense necessitat de signar-lo digitalment pel representant legal de l'entitat.
C33: JUSTIFICACIÓ: Instruccions
C35: Utilitzeu el mateix document que es va presentar en la petició de subvenció i ompliu els fulls de justificació:
C37: 1JUST Despeses | D37: Relació de DESPESES finals del projecte executat. Cal complir:
D38: Data: de la factura de la despesa.
D39: Núm. Fac.: número de la factura de la despesa.
D40: Proveïdor: nom de l'emisor de la factura.
D41: NIF: corresponent a l'emisor de la factura.
D42: Grup Despeses: seleccionar del desplegable la tipologia de la despesa.
D43: Tipus: seleccionar si és una despesa directa o indirecta en l'execució del projecte.
D44: Descripció despeses: explicació més detallada de la despesa.
D45: Import factura: quantitat total de la factura de referència.
D46: Import projecte: quantitat de la factura que s'imputa a l'execució del projecte.
D47: % imputat: valor automàtic del percentatge de la factura que s'imputa al projecte.
C49: 2JUST Ingressos | D49: Relació d'INGRESSOS finals del projecte executat. Cal omplir:
D50: Data: de realització de l'ingrés.
D51: Client: identificació de qui realitza l'ingrés.
D52: Grup ingressos: seleccionar del desplegable la tipologia de l'ingrés.
D53: Descripció ingressos: explicació més detallada de l'ingrés.
D54: Import: quantitat de l'ingrés.
D55: Import projecte: quantitat de l'ingrés que s'imputa a l'execució del projecte.
D56: % imputat: valor automàtic del percentatge de l'ingrés que s'imputa al projecte.
...

Sheet 1PRE Despeses
C3: DOCUMENTACIÓ SOL·LICITUD
C5: 1. PRESSUPOST DESPESES DEL PROJECTE | F5: any/curs | G5: ='0DADES'!G9 -> 0
C6: ='0DADES'!D7 -> 0 | F6: NIF | G6: ='0DADES'!G7 -> 0
C8: Grup Despeses | D8: Tipus | E8: Descripció Despeses | F8: Import
C9: Quotes i cànons | D9: Directe
C10: Altres serveis

Sheet 2PRE Ingressos
C3: DOCUMENTACIÓ SOL·LICITUD
C5: 2. PRESSUPOST INGRESSOS DEL PROJECTE | E5: any/curs | F5: ='0DADES'!G9 -> 0
C6: ='0DADES'!D7 -> 0 | E6: NIF | F6: ='0DADES'!G7 -> 0
C8: Grup Ingressos | D8: Descripició Ingressos | E8: Import
C9: Venda de productes

Sheet 3 PRESSUPOST
D3: DOCUMENTACIÓ SOL·LICITUD | H3: Full de generació automàtica
C5: 3. PRESSUPOST PROJECTE | G5: any/curs | H5: ='0DADES'!G9 -> 0
D6: ='0DADES'!D7 -> 0 | G6: NIF: | H6: ='0DADES'!G7 -> 0
C8: RESUM
D10: Total despeses | E10: =G55 -> 0 | F10: %
D11: Despeses directes | E11: =E55 -> 0 | F11: =E11/E10 -> #DIV/0!
D12: Despeses indirectes | E12: =F55 -> 0 | F12: =E12/E10 -> #DIV/0! | G12: (*)
D13: (*) Les despeses indirectes no poden ser superiors al 10% de l'import del projecte presentat.
D15: Total ingressos | E15: =E74 -> 0 | F15: %
D16: Ingressos entitat | E16: =E15-E17 -> 0 | F16: =E16/E15 -> #DIV/0!
D17: Subvenció Ajuntament El Prat de Llobregat | E17: =E71 -> 0 | F17: =E17/E15 -> #DIV/0! | G17: (*)
D18: (*) La subvenció municipal no pot ser superior al 75% de l'import del projecte presentat.
D20: Saldo despeses - ingressos | E20: =E15-E10 -> 0 | F20: (*)
D21: (*) El pressupost del projecte ha de tenir un resultat equilibrat.
C27: Despeses | E27: Import Directe | F27: Import Indirecte | G27: Total Projecte
C29: A | D29: PERSONAL
C30: a1 | D30: Personal Nómines | E30: =SUMIFS('1PRE Despeses'!$F$9:$F$104,'1PRE Despeses'!$C$9:$C$104,"Personal nómines",'1PRE Despeses'!$D$9:$D$104,"Directe") -> 0 | F30: =SUMIFS('1PRE Despeses'!$F$9:$F$104,'1PRE Despeses'!$C$9:$C$104,"Personal nómines",'1PRE Despeses'!$D$9:$D$104,"Indirecte") -> 0 | G30: =E30+F30 -> 0
C31: a2 | D31: Personal Seguretat Social | E31: =SUMIFS('1PRE Despeses'!$F$9:$F$104,'1PRE Despeses'!$C$9:$C$104,"Personal Seguretat Social",'1PRE Despeses'!$D$9:$D$104,"Directe") -> 0 | F31: =SUMIFS('1PRE Despeses'!$F$9:$F$104,'1PRE Despeses'!$C$9:$C$104,"Personal Seguretat Social",'1PRE Despeses'!$D$9:$D$104,"Indirecte") -> 0 | G31: =E31+F31 -> 0
C33: B | D33: COLABORADORS I USUARIS
C34: b1 | D34: Compensacions despeses col·laboradors i ususaris | E34: =SUMIFS('1PRE Despeses'!$F$9:$F$104,'1PRE Despeses'!$C$9:$C$104,"Colaboradors i usuaris",'1PRE Despeses'!$D$9:$D$104,"Directe") -> 0 | F34: =SUMIFS('1PRE Despeses'!$F$9:$F$104,'1PRE Despeses'!$C$9:$C$104,"Colaboradors i usuaris",'1PRE Despeses'!$D$9:$D$104,"Indirecte") -> 0 | G34: =E34+F34 -> 0
C35: b2 | D35: Allotjaments, dietes, viatges i desplaçaments | E35: =SUMIFS('1PRE Despeses'!$F$9:$F$104,'1PRE Despeses'!$C$9:$C$104,"Allotjaments, Dietes, Viatges ",'1PRE Despeses'!$D$9:$D$104,"Directe") -> 0 | F35: =SUMIFS('1PRE Despeses'!$F$9:$F$104,'1PRE Despeses'!$C$9:$C$104,"Allotjaments, Dietes, Viatges ",'1PRE Despeses'!$D$9:$D$104,"Indirecte") -> 0 | G35: =E35+F35 -> 0
C37: C | D37: COMPRES
C38: c1 | D38: Compra de material pel projecte /activitat | E38: =SUMIFS('1PRE Despeses'!$F$9:$F$104,'1PRE Despeses'!$C$9:$C$104,"Compres projecte",'1PRE Despeses'!$D$9:$D$104,"Directe") -> 0 | F38: =SUMIFS('1PRE Despeses'!$F$9:$F$104,'1PRE Despeses'!$C$9:$C$104,"Compres projecte",'1PRE Despeses'!$D$9:$D$104,"Indirecte") -> 0 | G38: =E38+F38 -> 0
C39: c2 | D39: Compra d'altre material | E39: =SUMIFS('1PRE Despeses'!$F$9:$F$104,'1PRE Despeses'!$C$9:$C$104,"Compres altres",'1PRE Despeses'!$D$9:$D$104,"Directe") -> 0 | F39: =SUMIFS('1PRE Despeses'!$F$9:$F$104,'1PRE Despeses'!$C$9:$C$104,"Compres altres",'1PRE Despeses'!$D$9:$D$104,"Indirecte") -> 0 | G39: =E39+F39 -> 0
C41: D | D41: SERVEIS EXTERNS
C42: d1 | D42: Assegurances | E42: =SUMIFS('1PRE Despeses'!$F$9:$F$104,'1PRE Despeses'!$C$9:$C$104,"Asegurances",'1PRE Despeses'!$D$9:$D$104,"Directe") -> 0 | F42: =SUMIFS('1PRE Despeses'!$F$9:$F$104,'1PRE Despeses'!$C$9:$C$104,"Asegurances",'1PRE Despeses'!$D$9:$D$104,"Indirecte") -> 0 | G42: =E42+F42 -> 0
C43: d2 | D43: Quotes i canons | E43: =SUMIFS('1PRE Despeses'!$F$9:$F$104,'1PRE Despeses'!$C$9:$C$104,"Quotes i cànons",'1PRE Despeses'!$D$9:$D$104,"Directe") -> 0 | F43: =SUMIFS('1PRE Despeses'!$F$9:$F$104,'1PRE Despeses'!$C$9:$C$104,"Quotes i cànons",'1PRE Despeses'!$D$9:$D$104,"Indirecte") -> 0 | G43: =E43+F43 -> 0
C44: d3 | D44: Lloguers | E44: =SUMIFS('1PRE Despeses'!$F$9:$F$104,'1PRE Despeses'!$C$9:$C$104,"Lloguers",'1PRE Despeses'!$D$9:$D$104,"Directe") -> 0 | F44: =SUMIFS('1PRE Despeses'!$F$9:$F$104,'1PRE Despeses'!$C$9:$C$104,"Lloguers",'1PRE Despeses'!$D$9:$D$104,"Indirecte") -> 0 | G44: =E44+F44 -> 0
C45: d4 | D45: Subministraments | E45: =SUMIFS('1PRE Despeses'!$F$9:$F$104,'1PRE Despeses'!$C$9:$C$104,"Subministraments",'1PRE Despeses'!$D$9:$D$104,"Directe") -> 0 | F45: =SUMIFS('1PRE Despeses'!$F$9:$F$104,'1PRE Despeses'!$C$9:$C$104,"Subministraments",'1PRE Despeses'!$D$9:$D$104,"Indirecte") -> 0 | G45: =E45+F45 -> 0
C46: d5 | D46: Comunicacions | E46: =SUMIFS('1PRE Despeses'!$F$9:$F$104,'1PRE Despeses'!$C$9:$C$104,"Comunicacions",'1PRE Despeses'!$D$9:$D$104,"Directe") -> 0 | F46: =SUMIFS('1PRE Despeses'!$F$9:$F$104,'1PRE Despeses'!$C$9:$C$104,"Comunicacions",'1PRE Despeses'!$D$9:$D$104,"Indirecte") -> 0 | G46: =E46+F46 -> 0
C47: d6 | D47: Publicitat i progaganda | E47: =SUMIFS('1PRE Despeses'!$F$9:$F$104,'1PRE Despeses'!$C$9:$C$104,"Publicitat",'1PRE Despeses'!$D$9:$D$104,"Directe") -> 0 | F47: =SUMIFS('1PRE Despeses'!$F$9:$F$104,'1PRE Despeses'!$C$9:$C$104,"Publicitat",'1PRE Despeses'!$D$9:$D$104,"Indirecte") -> 0 | G47: =E47+F47 -> 0
C48: d7 | D48: Transports | E48: =SUMIFS('1PRE Despeses'!$F$9:$F$104,'1PRE Despeses'!$C$9:$C$104,"Transports",'1PRE Despeses'!$D$9:$D$104,"Directe") -> 0 | F48: =SUMIFS('1PRE Despeses'!$F$9:$F$104,'1PRE Despeses'!$C$9:$C$104,"Transports",'1PRE Despeses'!$D$9:$D$104,"Indirecte") -> 0 | G48: =E48+F48 -> 0
C49: d8 | D49: Gestories i assessories | E49: =SUMIFS('1PRE Despeses'!$F$9:$F$104,'1PRE Despeses'!$C$9:$C$104,"Gestoria/Assessoria",'1PRE Despeses'!$D$9:$D$104,"Directe") -> 0 | F49: =SUMIFS('1PRE Despeses'!$F$9:$F$104,'1PRE Despeses'!$C$9:$C$104,"Gestoria/Assessoria",'1PRE Despeses'!$D$9:$D$104,"Indirecte") -> 0 | G49: =E49+F49 -> 0
C50: d9 | D50: Altres serveis | E50: =SUMIFS('1PRE Despeses'!$F$9:$F$104,'1PRE Despeses'!$C$9:$C$104,"Altres serveis",'1PRE Despeses'!$D$9:$D$104,"Directe") -> 0 | F50: =SUMIFS('1PRE Despeses'!$F$9:$F$104,'1PRE Despeses'!$C$9:$C$104,"Altres serveis",'1PRE Despeses'!$D$9:$D$104,"Indirecte") -> 0 | G50: =E50+F50 -> 0
C52: E | D52: ALTRES DESPESES
C53: e1 | D53: Altres despeses | E53: =SUMIFS('1PRE Despeses'!$F$9:$F$104,'1PRE Despeses'!$C$9:$C$104,"Altres despeses",'1PRE Despeses'!$D$9:$D$104,"Directe") -> 0 | F53: =SUMIFS('1PRE Despeses'!$F$9:$F$104,'1PRE Despeses'!$C$9:$C$104,"Altres despeses",'1PRE Despeses'!$D$9:$D$104,"Indirecte") -> 0 | G53: =E53+F53 -> 0
D55: TOTAL DESPESES PREVISTES | E55: =SUM(E30:E53) -> 0 | F55: =SUM(F30:F53) -> 0 | G55: =E55+F55 -> 0
C58: Ingressos | E58: Import Projecte
C60: A | D60: INGRESSOS USUARIS
C61: a1 | D61: Quotes d'associats i afiliats | E61: =SUMIF('2PRE Ingressos'!$C$9:$C$54,"Quotes socis",'2PRE Ingressos'!$E$9:$E$54) -> 0
...

Sheet 1JUST Despeses
C3: DOCUMENTACIÓ JUSTIFICACIÓ
C5: 1. JUSTIFICACIÓ DESPESES DEL PROJECTE | J5: any/curs | K5: ='0DADES'!G9 -> 0
C6: ='0DADES'!D7 -> 0 | J6: NIF | K6: ='0DADES'!G7 -> 0
C8: Data | D8: Núm. Fac | E8: Proveidor | F8: NIF | G8: Grup Despeses | H8: Tipus | I8: Descripció Despeses | J8: Import Factura | K8: Import Projecte | L8: % imputat
D9: 123 | L9: =K9/J9 -> #DIV/0!
L10: =K10/J10 -> #DIV/0!
L11: =K11/J11 -> #DIV/0!
L12: =K12/J12 -> #DIV/0!
L13: =K13/J13 -> #DIV/0!
L14: =K14/J14 -> #DIV/0!
L15: =K15/J15 -> #DIV/0!
L16: =K16/J16 -> #DIV/0!
L17: =K17/J17 -> #DIV/0!
L18: =K18/J18 -> #DIV/0!
L19: =K19/J19 -> #DIV/0!
L20: =K20/J20 -> #DIV/0!
L21: =K21/J21 -> #DIV/0!
... L999: =K999/J999 -> #DIV/0!

Sheet 2JUST Ingressos
C3: DOCUMENTACIÓ JUSTIFICACIÓ
C5: 2. JUSTIFICACIÓ INGRESSOS DEL PROJECTE | G5: any/curs | H5: ='0DADES'!G9 -> 0
C6: ='0DADES'!D7 -> 0 | G6: NIF | H6: ='0DADES'!G7 -> 0
C8: Data | D8: Client | E8: Grup Ingressos | F8: Descripció Ingressos | G8: Import | H8: Import Projecte | I8: % imputat
I9: =H9/G9 -> #DIV/0!
I10: =H10/G10 -> #DIV/0!
I11: =H11/G11 -> #DIV/0!
I12: =H12/G12 -> #DIV/0!
I13: =H13/G13 -> #DIV/0!
I14: =H14/G14 -> #DIV/0!
I15: =H15/G15 -> #DIV/0!
I16: =H16/G16 -> #DIV/0!
I17: =H17/G17 -> #DIV/0!
I18: =H18/G18 -> #DIV/0!
I19: =H19/G19 -> #DIV/0!
I20: =H20/G20 -> #DIV/0!
... I683: =H683/G683 -> #DIV/0!

Sheet 3JUST BALANÇ
C3: DOCUMENTACIÓ JUSTIFICACIÓ | I3: Full de generació automàtica
C5: 3. BALANÇ COMPTE JUSTIFICATIU | H5: any/curs | I5: ='0DADES'!G9 -> 0
D6: ='0DADES'!D7 -> 0 | H6: NIF: | I6: ='0DADES'!G7 -> 0
E8: Pressupost Inicial | F8: Import Projecte executat
C9: Despeses | F9: Imports directes | G9: Imports indirectes | H9: Total | I9: Diferència amb pressupost
C11: A | D11: PERSONAL | E11: =SUM(E12:E13) -> 0 | H11: =SUM(H12:H13) -> 0 | I11: =-(E11-H11)/E11 -> #DIV/0!
C12: a1 | D12: Personal Nòmines | E12: ='3 PRESSUPOST'!E30 -> 0 | F12: =SUMIFS('1JUST Despeses'!$K$9:$K$863,'1JUST Despeses'!$G$9:$G$863,"Personal nómines",'1JUST Despeses'!$H$9:$H$863,"Directe") -> 0 | G12: =SUMIFS('1JUST Despeses'!$K$9:$K$863,'1JUST Despeses'!$G$9:$G$863,"Personal nómines",'1JUST Despeses'!$H$9:$H$863,"Indirecte") -> 0 | H12: =F12+G12 -> 0
C13: a2 | D13: Personal Seguretat Social | E13: ='3 PRESSUPOST'!E31 -> 0 | F13: =SUMIFS('1JUST Despeses'!$K$9:$K$863,'1JUST Despeses'!$G$9:$G$863,"Personal Seguretat Social",'1JUST Despeses'!$H$9:$H$863,"Directe") -> 0 | G13: =SUMIFS('1JUST Despeses'!$K$9:$K$863,'1JUST Despeses'!$G$9:$G$863,"Personal Seguretat Social",'1JUST Despeses'!$H$9:$H$863,"Indirecte") -> 0 | H13: =F13+G13 -> 0
C15: B | D15: COLABORADORS I USUARIS | E15: =SUM(E16:E17) -> 0 | H15: =SUM(H16:H17) -> 0 | I15: =-(E15-H15)/E15 -> #DIV/0!
C16: b1 | D16: Compensacions despeses col·laboradors i ususaris | E16: ='3 PRESSUPOST'!E34 -> 0 | F16: =SUMIFS('1JUST Despeses'!$K$9:$K$863,'1JUST Despeses'!$G$9:$G$863,"Colaboradors i usuaris",'1JUST Despeses'!$H$9:$H$863,"Directe") -> 0 | G16: =SUMIFS('1JUST Despeses'!$K$9:$K$863,'1JUST Despeses'!$G$9:$G$863,"Colaboradors i usuaris",'1JUST Despeses'!$H$9:$H$863,"Indirecte") -> 0 | H16: =F16+G16 -> 0
C17: b2 | D17: Allotjaments, dietes, viatges i desplaçaments | E17: ='3 PRESSUPOST'!E35 -> 0 | F17: =SUMIFS('1JUST Despeses'!$K$9:$K$863,'1JUST Despeses'!$G$9:$G$863,"Allotjaments, Dietes, Viatges ",'1JUST Despeses'!$H$9:$H$863,"Directe") -> 0 | G17: =SUMIFS('1JUST Despeses'!$K$9:$K$863,'1JUST Despeses'!$G$9:$G$863,"Allotjaments, Dietes, Viatges ",'1JUST Despeses'!$H$9:$H$863,"Indirecte") -> 0 | H17: =F17+G17 -> 0
C19: C | D19: COMPRES | E19: =SUM(E20:E21) -> 0 | H19: =SUM(H20:H21) -> 0 | I19: =-(E19-H19)/E19 -> #DIV/0!
C20: c1 | D20: Compra de material pel projecte /activitat | E20: ='3 PRESSUPOST'!E38 -> 0 | F20: =SUMIFS('1JUST Despeses'!$K$9:$K$863,'1JUST Despeses'!$G$9:$G$863,"Compres projecte",'1JUST Despeses'!$H$9:$H$863,"Directe") -> 0 | G20: =SUMIFS('1JUST Despeses'!$K$9:$K$863,'1JUST Despeses'!$G$9:$G$863,"Compres projecte",'1JUST Despeses'!$H$9:$H$863,"Indirecte") -> 0 | H20: =F20+G20 -> 0
C21: c2 | D21: Compra d'altre material | E21: ='3 PRESSUPOST'!E39 -> 0 | F21: =SUMIFS('1JUST Despeses'!$K$9:$K$863,'1JUST Despeses'!$G$9:$G$863,"Compres altres",'1JUST Despeses'!$H$9:$H$863,"Directe") -> 0 | G21: =SUMIFS('1JUST Despeses'!$K$9:$K$863,'1JUST Despeses'!$G$9:$G$863,"Compres altres",'1JUST Despeses'!$H$9:$H$863,"Indirecte") -> 0 | H21: =F21+G21 -> 0
C23: D | D23: SERVEIS EXTERNS | E23: =SUM(E24:E32) -> 0 | H23: =SUM(H24:H32) -> 0 | I23: =-(E23-H23)/E23 -> #DIV/0!
C24: d1 | D24: Assegurances | E24: ='3 PRESSUPOST'!E42 -> 0 | F24: =SUMIFS('1JUST Despeses'!$K$9:$K$863,'1JUST Despeses'!$G$9:$G$863,"Asegurances",'1JUST Despeses'!$H$9:$H$863,"Directe") -> 0 | G24: =SUMIFS('1JUST Despeses'!$K$9:$K$863,'1JUST Despeses'!$G$9:$G$863,"Asegurances",'1JUST Despeses'!$H$9:$H$863,"Indirecte") -> 0 | H24: =F24+G24 -> 0
C25: d2 | D25: Quotes i canons | E25: ='3 PRESSUPOST'!E43 -> 0 | F25: =SUMIFS('1JUST Despeses'!$K$9:$K$863,'1JUST Despeses'!$G$9:$G$863,"Quotes i cànons",'1JUST Despeses'!$H$9:$H$863,"Directe") -> 0 | G25: =SUMIFS('1JUST Despeses'!$K$9:$K$863,'1JUST Despeses'!$G$9:$G$863,"Quotes i cànons",'1JUST Despeses'!$H$9:$H$863,"Indirecte") -> 0 | H25: =F25+G25 -> 0
C26: d3 | D26: Lloguers | E26: ='3 PRESSUPOST'!E44 -> 0 | F26: =SUMIFS('1JUST Despeses'!$K$9:$K$863,'1JUST Despeses'!$G$9:$G$863,"Lloguers",'1JUST Despeses'!$H$9:$H$863,"Directe") -> 0 | G26: =SUMIFS('1JUST Despeses'!$K$9:$K$863,'1JUST Despeses'!$G$9:$G$863,"Lloguers",'1JUST Despeses'!$H$9:$H$863,"Indirecte") -> 0 | H26: =F26+G26 -> 0
C27: d4 | D27: Subministraments | E27: ='3 PRESSUPOST'!E45 -> 0 | F27: =SUMIFS('1JUST Despeses'!$K$9:$K$863,'1JUST Despeses'!$G$9:$G$863,"Subministraments",'1JUST Despeses'!$H$9:$H$863,"Directe") -> 0 | G27: =SUMIFS('1JUST Despeses'!$K$9:$K$863,'1JUST Despeses'!$G$9:$G$863,"Subministraments",'1JUST Despeses'!$H$9:$H$863,"Indirecte") -> 0 | H27: =F27+G27 -> 0
C28: d5 | D28: Comunicacions | E28: ='3 PRESSUPOST'!E46 -> 0 | F28: =SUMIFS('1JUST Despeses'!$K$9:$K$863,'1JUST Despeses'!$G$9:$G$863,"Comunicacions",'1JUST Despeses'!$H$9:$H$863,"Directe") -> 0 | G28: =SUMIFS('1JUST Despeses'!$K$9:$K$863,'1JUST Despeses'!$G$9:$G$863,"Comunicacions",'1JUST Despeses'!$H$9:$H$863,"Indirecte") -> 0 | H28: =F28+G28 -> 0
C29: d6 | D29: Publicitat i progaganda | E29: ='3 PRESSUPOST'!E47 -> 0 | F29: =SUMIFS('1JUST Despeses'!$K$9:$K$863,'1JUST Despeses'!$G$9:$G$863,"Publicitat",'1JUST Despeses'!$H$9:$H$863,"Directe") -> 0 | G29: =SUMIFS('1JUST Despeses'!$K$9:$K$863,'1JUST Despeses'!$G$9:$G$863,"Publicitat",'1JUST Despeses'!$H$9:$H$863,"Indirecte") -> 0 | H29: =F29+G29 -> 0
C30: d7 | D30: Transports | E30: ='3 PRESSUPOST'!E48 -> 0 | F30: =SUMIFS('1JUST Despeses'!$K$9:$K$863,'1JUST Despeses'!$G$9:$G$863,"Transports",'1JUST Despeses'!$H$9:$H$863,"Directe") -> 0 | G30: =SUMIFS('1JUST Despeses'!$K$9:$K$863,'1JUST Despeses'!$G$9:$G$863,"Transports",'1JUST Despeses'!$H$9:$H$863,"Indirecte") -> 0 | H30: =F30+G30 -> 0
C31: d8 | D31: Gestories i assessories | E31: ='3 PRESSUPOST'!E49 -> 0 | F31: =SUMIFS('1JUST Despeses'!$K$9:$K$863,'1JUST Despeses'!$G$9:$G$863,"Gestoria/Assessoria",'1JUST Despeses'!$H$9:$H$863,"Directe") -> 0 | G31: =SUMIFS('1JUST Despeses'!$K$9:$K$863,'1JUST Despeses'!$G$9:$G$863,"Gestoria/Assessoria",'1JUST Despeses'!$H$9:$H$863,"Indirecte") -> 0 | H31: =F31+G31 -> 0
C32: d9 | D32: Altres serveis | E32: ='3 PRESSUPOST'!E50 -> 0 | F32: =SUMIFS('1JUST Despeses'!$K$9:$K$863,'1JUST Despeses'!$G$9:$G$863,"Altres serveis",'1JUST Despeses'!$H$9:$H$863,"Directe") -> 0 | G32: =SUMIFS('1JUST Despeses'!$K$9:$K$863,'1JUST Despeses'!$G$9:$G$863,"Altres serveis",'1JUST Despeses'!$H$9:$H$863,"Indirecte") -> 0 | H32: =F32+G32 -> 0
C34: E | D34: ALTRES DESPESES | E34: =SUM(E35) -> 0 | H34: =SUM(H35) -> 0 | I34: =-(E34-H34)/E34 -> #DIV/0!
C35: e1 | D35: Altres despeses | E35: ='3 PRESSUPOST'!E53 -> 0 | F35: =SUMIFS('1JUST Despeses'!$K$9:$K$863,'1JUST Despeses'!$G$9:$G$863,"Altres despeses",'1JUST Despeses'!$H$9:$H$863,"Directe") -> 0 | G35: =SUMIFS('1JUST Despeses'!$K$9:$K$863,'1JUST Despeses'!$G$9:$G$863,"Altres despeses",'1JUST Despeses'!$H$9:$H$863,"Indirecte") -> 0 | H35: =F35+G35 -> 0
D37: TOTAL DESPESES | E37: =SUM(E12:E13,E16:E17,E20:E21,E24:E32,E35) -> 0 | F37: =SUM(F12:F13,F16:F17,F20:F21,F24:F32,F35) -> 0 | G37: =SUM(G12:G13,G16:G17,G20:G21,G24:G32,G35) -> 0 | H37: =SUM(H12:H13,H16:H17,H20:H21,H24:H32,H35) -> 0 | I37: =-(E37-H37)/E37 -> #DIV/0!
E39: Percentatge despeses Indirectes | G39: =G37/H37 -> #DIV/0! | H39: (*)
E40: (*) Les despeses indirectes no poden ser superiors al 10% de l'import del projecte executat.
C42: Ingressos | E42: Pressupost Inicial | F42: Import Projecte executat | I42: Diferència amb pressupost
C44: A | D44: INGRESSOS USUARIS | E44: =SUM(E45:E46) -> 0 | F44: =SUM(F45:F46) -> 0 | I44: =-(E44-F44)/E44 -> #DIV/0!
C45: a1 | D45: Quotes d'associats i afiliats | E45: ='3 PRESSUPOST'!E61 -> 0 | F45: =SUMIF('2JUST Ingressos'!$E$9:$E$504,"Quotes socis",'2JUST Ingressos'!$H$9:$H$504) -> 0
C46: a2 | D46: Quotes d'usuaris | E46: ='3 PRESSUPOST'!E62 -> 0 | F46: =SUMIF('2JUST Ingressos'!$E$9:$E$504,"Quotes usuaris",'2JUST Ingressos'!$H$9:$H$504) -> 0
C48: B | D48: ALTRES INGRESSOS | E48: =SUM(E49:E52) -> 0 | F48: =SUM(F49:F52) -> 0 | I48: =-(E48-F48)/E48 -> #DIV/0!
C49: b1 | D49: Venda de productes | E49: ='3 PRESSUPOST'!E65 -> 0 | F49: =SUMIF('2JUST Ingressos'!$E$9:$E$504,"Venda de productes",'2JUST Ingressos'!$H$9:$H$504) -> 0
C50: b2 | D50: Publicitat i/o sponsorització | E50: ='3 PRESSUPOST'!E66 -> 0 | F50: =SUMIF('2JUST Ingressos'!$E$9:$E$504,"Publicitat-sponsors",'2JUST Ingressos'!$H$9:$H$504) -> 0
C51: b3 | D51: Altres ingressos | E51: ='3 PRESSUPOST'!E67 -> 0 | F51: =SUMIF('2JUST Ingressos'!$E$9:$E$504,"Altres ingressos",'2JUST Ingressos'!$H$9:$H$504) -> 0
C52: b4 | D52: Recursos propis de l'entitat | E52: ='3 PRESSUPOST'!E68 -> 0 | F52: =SUMIF('2JUST Ingressos'!$E$9:$E$504,"Recursos propis entitat",'2JUST Ingressos'!$H$9:$H$504) -> 0
C54: C | D54: SUBVENCIONS | E54: =SUM(E55:E56) -> 0 | F54: =SUM(F55:F56) -> 0 | I54: =-(E54-F54)/E54 -> #DIV/0!
C55: c1 | D55: Subvenció Ajuntament | E55: ='3 PRESSUPOST'!E71 -> 0 | F55: =SUMIF('2JUST Ingressos'!$E$9:$E$504,"Subvenció Ajuntament",'2JUST Ingressos'!$H$9:$H$504) -> 0
...

Sheet TABLAS
C1: TABLA Grup Despeses | E1: Tabla Grup Ingressos | G1: Tabla Tipus
C3: Personal nómines | E3: Quotes socis | G3: Directe
C4: Personal Seguretat Social | E4: Quotes usuaris | G4: Indirecte
C5: Colaboradors i usuaris | E5: Venda de productes
C6: Allotjaments, Dietes, Viatges | E6: Publicitat-sponsors
C7: Compres projecte | E7: Altres ingressos
C8: Compres altres | E8: Recursos propis entitat
C9: Asegurances | E9: Subvenció Ajuntament
C10: Quotes i cànons | E10: Subvenció Altres
C11: Lloguers
C12: Subministraments
C13: Comunicacions
C14: Publicitat
C15: Transports
C16: Gestoria/Assessoria
C17: Altres serveis
C18: Altres despeses
